BEGIN:VCALENDAR
VERSION:2.0
PRODID:-//Estrad - ECPv6.15.18//NONSGML v1.0//EN
CALSCALE:GREGORIAN
METHOD:PUBLISH
X-WR-CALNAME:Estrad
X-ORIGINAL-URL:https://estradalingsas.se
X-WR-CALDESC:Händelser för Estrad
REFRESH-INTERVAL;VALUE=DURATION:PT1H
X-Robots-Tag:noindex
X-PUBLISHED-TTL:PT1H
BEGIN:VTIMEZONE
TZID:UTC
BEGIN:STANDARD
TZOFFSETFROM:+0000
TZOFFSETTO:+0000
TZNAME:UTC
DTSTART:20250101T000000
END:STANDARD
END:VTIMEZONE
BEGIN:VEVENT
DTSTART;TZID=UTC:20260424T080000
DTEND;TZID=UTC:20260426T200000
DTSTAMP:20260421T094519
CREATED:20260330T111516Z
LAST-MODIFIED:20260330T111802Z
UID:66305-1777017600-1777233600@estradalingsas.se
SUMMARY:Potatiscupen
DESCRIPTION:Välkommen till årets Potatiscup! Under två helger i april kommer runt 300 lag till Alingsås för att spela Potatiscupen i handboll. Speldatum som gäller är 17–19 april och 24–26 april 2026. \n17-19 april (U8-U11) \n24-26 april (U12-U14 samt parahandboll) \n  \n 
URL:https://estradalingsas.se/kalender/potatiscupen-2/
LOCATION:Estrad Alingsås – Arena\, Bryggaregatan 2\, Alingsås\, 441 30\, Sweden
CATEGORIES:Sport
ATTACH;FMTTYPE=image/jpeg:https://estradalingsas.se/wp-content/uploads/2025/11/AHK-kalenderbild.jpg
END:VEVENT
BEGIN:VEVENT
DTSTART;TZID=UTC:20260513T090000
DTEND;TZID=UTC:20260513T100000
DTSTAMP:20260421T094519
CREATED:20251117T122950Z
LAST-MODIFIED:20260309T080457Z
UID:64371-1778662800-1778666400@estradalingsas.se
SUMMARY:Estrad Nätverksträff – Ågrenska
DESCRIPTION:Nyfiken på vilka som sitter hos oss?\nVälkommen på våra nätverksträffar på Estrad Alingsås. Här får du chansen att träffa andra\, se våra lokaler och höra mer om alla spännande företag som sitter här på Estrad! \nDenna träff lär vi känna eldsjälarna bakom Ågrenska\, en organisation för stöd kring sällsynta hälsotillstånd och sjukdomar. Ågrenska är en av de organisationer Estrad stöttar genom att dela ut Gåvokort till talare och inspiratörer. Läs mer här. \nVi bjuder på kaffe och frukostfralla! \nAnmäl dig kostnadsfritt till info@estradalingsas.se med namn\, företag och datumet du vill delta på. \nInför evenemanget: \nRes hållbart till oss.  Alingsås centralstation ligger endast en minuts gångavstånd från våra entréer. \nBehöver du fordonsparkering parkerar du enklast i vårt P-hus. Lämna jackan i bilen och ta trapporna för att komma direkt till huvudentrén. För dig i behov av hiss\, parkera på markplan/Plan 1. \nHär finner du vägbeskrivning till Estrad Parkeringshus. \n\n 
URL:https://estradalingsas.se/kalender/estrad-natverkstraff-restaurang-skaal/
LOCATION:Estrad Alingsås – Afzelius Foajé\, Bryggaregatan 2\, Alingsås\, 441 30\, Sweden
CATEGORIES:Företagande
ATTACH;FMTTYPE=image/jpeg:https://estradalingsas.se/wp-content/uploads/2026/01/Natverkstraffar-bild.jpg
ORGANIZER;CN="Estrad Alings%C3%A5s":MAILTO:info@estradalingsas.se
END:VEVENT
BEGIN:VEVENT
DTSTART;TZID=UTC:20260617T090000
DTEND;TZID=UTC:20260617T100000
DTSTAMP:20260421T094519
CREATED:20260309T081511Z
LAST-MODIFIED:20260309T081511Z
UID:66165-1781686800-1781690400@estradalingsas.se
SUMMARY:Estrad Nätverksträff – Arena Matchning
DESCRIPTION:Nyfiken på vilka som sitter hos oss?\nVälkommen på våra nätverksträffar på Estrad Alingsås. Här får du chansen att träffa andra\, se våra lokaler och höra mer om alla spännande företag som sitter här på Estrad\, och även lokala externa företag! Ett perfekt kravlöst sätt att bekanta sig med regionens företag och vad de erbjuder. \nDenna träff lär vi känna Arena Matchning\, som hjälper dig gå från arbetssökande till ny sysselsättning\, lite extra. \nVi bjuder på kaffe och frukostfralla! \nAnmäl dig kostnadsfritt till info@estradalingsas.se med namn\, företag och datumet du vill delta på. \nInför evenemanget: \nRes hållbart till oss.  Alingsås centralstation ligger endast en minuts gångavstånd från våra entréer. \nBehöver du fordonsparkering parkerar du enklast i vårt P-hus. Lämna jackan i bilen och ta trapporna för att komma direkt till huvudentrén. För dig i behov av hiss\, parkera på markplan/Plan 1. \nHär finner du vägbeskrivning till Estrad Parkeringshus. \n\n 
URL:https://estradalingsas.se/kalender/estrad-natverkstraff-arena-matchning/
LOCATION:Estrad Alingsås – King Edward\, Bryggaregatan 2\, Alingsås\, 441 30\, Sweden
CATEGORIES:Företagande
ATTACH;FMTTYPE=image/jpeg:https://estradalingsas.se/wp-content/uploads/2026/01/Natverkstraffar-bild.jpg
ORGANIZER;CN="Estrad Alings%C3%A5s":MAILTO:info@estradalingsas.se
END:VEVENT
BEGIN:VEVENT
DTSTART;TZID=UTC:20260819T090000
DTEND;TZID=UTC:20260819T100000
DTSTAMP:20260421T094519
CREATED:20260309T081858Z
LAST-MODIFIED:20260309T081858Z
UID:66167-1787130000-1787133600@estradalingsas.se
SUMMARY:Estrad Nätverksträff – Navigator Scaleup
DESCRIPTION:Nyfiken på vilka som sitter hos oss?\nVälkommen på våra nätverksträffar på Estrad Alingsås. Här får du chansen att träffa andra\, se våra lokaler och höra mer om alla spännande företag som sitter här på Estrad\, och även lokala externa företag! Ett perfekt kravlöst sätt att bekanta sig med regionens företag och vad de erbjuder. \nDenna gång träffar vi Jenny Jernberg som driver Navigator Scaleup-projekten i regionen. Välkommen om du går i tillväxttankar eller bara är nyfiken på nya kontakter! \nVi bjuder på kaffe och frukostfralla! \nAnmäl dig kostnadsfritt till info@estradalingsas.se med namn\, företag och datumet du vill delta på. \nInför evenemanget: \nRes hållbart till oss.  Alingsås centralstation ligger endast en minuts gångavstånd från våra entréer. \nBehöver du fordonsparkering parkerar du enklast i vårt P-hus. Lämna jackan i bilen och ta trapporna för att komma direkt till huvudentrén. För dig i behov av hiss\, parkera på markplan/Plan 1. \nHär finner du vägbeskrivning till Estrad Parkeringshus. \n\n 
URL:https://estradalingsas.se/kalender/estrad-natverkstraff-navigator-scaleup/
LOCATION:Estrad Alingsås – King Edward\, Bryggaregatan 2\, Alingsås\, 441 30\, Sweden
CATEGORIES:Företagande
ATTACH;FMTTYPE=image/jpeg:https://estradalingsas.se/wp-content/uploads/2026/01/Natverkstraffar-bild.jpg
ORGANIZER;CN="Estrad Alings%C3%A5s":MAILTO:info@estradalingsas.se
END:VEVENT
BEGIN:VEVENT
DTSTART;TZID=UTC:20260906T090000
DTEND;TZID=UTC:20260906T170000
DTSTAMP:20260421T094519
CREATED:20260330T145138Z
LAST-MODIFIED:20260330T145138Z
UID:66364-1788685200-1788714000@estradalingsas.se
SUMMARY:Mjörn Runt
DESCRIPTION:Välkommen till årets Mjörn Runt! \nSedan 2019 arrangeras Mjörn Runt av Långareds BOIS med målet att erbjuda cykelmotionärer i Alingsås med omnejd ett inspirerande mål att träna och sikta mot. \nMjörn Runt är ett 6 eller 10 mil långt motionslopp som\, precis som namnet antyder\, följer den närmaste asfalterade vägen runt den natursköna sjön Mjörn. \nStarten sker vid Estrad i Alingsås och banan tar dig vidare längs fina och varierande vägar genom Hemsjö\, Tollered och Floda\, innan du når Stenkullen där en depå med mat och dryck väntar. \nVälkommen till en härlig cykelupplevelse fylld av gemenskap\, motion och vacker natur!
URL:https://estradalingsas.se/kalender/mjorn-runt/
ATTACH;FMTTYPE=image/png:https://estradalingsas.se/wp-content/uploads/2026/03/hemsidebilder.png
END:VEVENT
BEGIN:VEVENT
DTSTART;TZID=UTC:20260927T090000
DTEND;TZID=UTC:20260927T130000
DTSTAMP:20260421T094519
CREATED:20260121T105906Z
LAST-MODIFIED:20260331T110151Z
UID:65322-1790499600-1790514000@estradalingsas.se
SUMMARY:Barnmarknad
DESCRIPTION:Söndag den 27/9 är det återigen dags för Alingsås Volleybollklubbs barnmarknad i Estrads foajé! \nMer information kommer. \n  \nInför evenemanget: \nRes hållbart till oss.  Alingsås centralstation ligger endast en minuts gångavstånd från våra entréer. \nBehöver du fordonsparkering parkerar du enklast i vårt P-hus. Lämna jackan i bilen och ta trapporna för att komma direkt till huvudentrén. För dig i behov av hiss\, parkera på markplan/Plan 1. \nHär finner du vägbeskrivning till Estrad Parkeringshus.
URL:https://estradalingsas.se/kalender/barnmarknad/
LOCATION:Estrad Alingsås – Afzelius Foajé\, Bryggaregatan 2\, Alingsås\, 441 30\, Sweden
CATEGORIES:Evenemang
ATTACH;FMTTYPE=image/png:https://estradalingsas.se/wp-content/uploads/2026/01/hemsidebilder-2.png
END:VEVENT
BEGIN:VEVENT
DTSTART;TZID=UTC:20261010T130000
DTEND;TZID=UTC:20261010T190000
DTSTAMP:20260421T094519
CREATED:20260302T092517Z
LAST-MODIFIED:20260417T112243Z
UID:66102-1791637200-1791658800@estradalingsas.se
SUMMARY:Löparmässan
DESCRIPTION:Upptäck ny utrustning\, kosttillskott och platser för att ta din löpning till nästa nivå. Välkommen till årets Löparmässa i samband med Running Lights! \nOavsett om du planerar att delta i årets mysigaste lopp eller bara vill upptäcka nya favoriter inom träning och hälsa\, är du välkommen till Löparmässan. Här finns utställare från allt som har med motion att göra- utrustning\, kosttillskott\, motionsspår\, gym och mycket mer! Läs mer om våra utställare under ”Läs mer”. \nVill du ställa ut på mässan? Klicka på ”Läs mer” för att komma till hemsidan. \nFri entré.
URL:https://estradalingsas.se/kalender/loparmassan/
LOCATION:Estrad Alingsås – Estrad Foajé\, Bryggaregatan 2\, Alingsås\, 441 30\, Sweden
CATEGORIES:+,Mässor
ATTACH;FMTTYPE=image/png:https://estradalingsas.se/wp-content/uploads/2026/03/Loparmassan.png
END:VEVENT
BEGIN:VEVENT
DTSTART;TZID=UTC:20261014T090000
DTEND;TZID=UTC:20261014T100000
DTSTAMP:20260421T094519
CREATED:20260309T082238Z
LAST-MODIFIED:20260309T082504Z
UID:66169-1791968400-1791972000@estradalingsas.se
SUMMARY:Estrad Nätverksträff – Add Gender
DESCRIPTION:Nyfiken på vilka som sitter hos oss?\nVälkommen på våra nätverksträffar på Estrad Alingsås. Här får du chansen att träffa andra\, se våra lokaler och höra mer om alla spännande företag som sitter här på Estrad\, och även lokala externa företag! Ett perfekt kravlöst sätt att bekanta sig med regionens företag och vad de erbjuder. \nDenna gång lär vi känna vi Jenny Claesson och Add Gender lite extra! \nVi bjuder på kaffe och frukostfralla! \nAnmäl dig kostnadsfritt till info@estradalingsas.se med namn\, företag och datumet du vill delta på. \nInför evenemanget: \nRes hållbart till oss.  Alingsås centralstation ligger endast en minuts gångavstånd från våra entréer. \nBehöver du fordonsparkering parkerar du enklast i vårt P-hus. Lämna jackan i bilen och ta trapporna för att komma direkt till huvudentrén. För dig i behov av hiss\, parkera på markplan/Plan 1. \nHär finner du vägbeskrivning till Estrad Parkeringshus. \n\n 
URL:https://estradalingsas.se/kalender/estrad-natverkstraff-running-lights/
LOCATION:Estrad Alingsås – King Edward\, Bryggaregatan 2\, Alingsås\, 441 30\, Sweden
CATEGORIES:Företagande
ATTACH;FMTTYPE=image/jpeg:https://estradalingsas.se/wp-content/uploads/2026/01/Natverkstraffar-bild.jpg
ORGANIZER;CN="Estrad Alings%C3%A5s":MAILTO:info@estradalingsas.se
END:VEVENT
BEGIN:VEVENT
DTSTART;TZID=UTC:20261118T090000
DTEND;TZID=UTC:20261118T100000
DTSTAMP:20260421T094519
CREATED:20260309T082626Z
LAST-MODIFIED:20260309T082626Z
UID:66173-1794992400-1794996000@estradalingsas.se
SUMMARY:Estrad Nätverksträff – 24/7 Alingsås
DESCRIPTION:Nyfiken på vilka som sitter hos oss?\nVälkommen på våra nätverksträffar på Estrad Alingsås. Här får du chansen att träffa andra\, se våra lokaler och höra mer om alla spännande företag som sitter här på Estrad\, och även lokala externa företag! Ett perfekt kravlöst sätt att bekanta sig med regionens företag och vad de erbjuder. \nDenna gång lär vi känna vi Martin Hagström och hans bolag 24/7 Alingsås lite extra! \nVi bjuder på kaffe och frukostfralla! \nAnmäl dig kostnadsfritt till info@estradalingsas.se med namn\, företag och datumet du vill delta på. \nInför evenemanget: \nRes hållbart till oss.  Alingsås centralstation ligger endast en minuts gångavstånd från våra entréer. \nBehöver du fordonsparkering parkerar du enklast i vårt P-hus. Lämna jackan i bilen och ta trapporna för att komma direkt till huvudentrén. För dig i behov av hiss\, parkera på markplan/Plan 1. \nHär finner du vägbeskrivning till Estrad Parkeringshus. \n\n 
URL:https://estradalingsas.se/kalender/estrad-natverkstraff-24-7-alingsas/
LOCATION:Estrad Alingsås – King Edward\, Bryggaregatan 2\, Alingsås\, 441 30\, Sweden
CATEGORIES:Företagande
ATTACH;FMTTYPE=image/jpeg:https://estradalingsas.se/wp-content/uploads/2026/01/Natverkstraffar-bild.jpg
ORGANIZER;CN="Estrad Alings%C3%A5s":MAILTO:info@estradalingsas.se
END:VEVENT
BEGIN:VEVENT
DTSTART;TZID=UTC:20261216T090000
DTEND;TZID=UTC:20261216T100000
DTSTAMP:20260421T094519
CREATED:20260119T072724Z
LAST-MODIFIED:20260409T105909Z
UID:65279-1797411600-1797415200@estradalingsas.se
SUMMARY:Estrad Nätverksträff – InfoCell AB
DESCRIPTION:Nyfiken på vilka som sitter hos oss?\nVälkommen på våra nätverksträffar på Estrad Alingsås. Här får du chansen att träffa andra\, se våra lokaler och höra mer om alla spännande företag som sitter här på Estrad\, och även lokala externa företag! Ett perfekt kravlöst sätt att bekanta sig med regionens företag och vad de erbjuder. \nDenna träff lär vi känna InfoCell AB lite extra. \nVi bjuder på kaffe och frukostfralla! \nAnmäl dig kostnadsfritt till info@estradalingsas.se med namn\, företag och datumet du vill delta på. \nInför evenemanget: \nRes hållbart till oss.  Alingsås centralstation ligger endast en minuts gångavstånd från våra entréer. \nBehöver du fordonsparkering parkerar du enklast i vårt P-hus. Lämna jackan i bilen och ta trapporna för att komma direkt till huvudentrén. För dig i behov av hiss\, parkera på markplan/Plan 1. \nHär finner du vägbeskrivning till Estrad Parkeringshus. \n\n 
URL:https://estradalingsas.se/kalender/estrad-natverkstraff-gudmundsson-ecom/
LOCATION:Estrad Alingsås – King Edward\, Bryggaregatan 2\, Alingsås\, 441 30\, Sweden
CATEGORIES:Företagande
ATTACH;FMTTYPE=image/jpeg:https://estradalingsas.se/wp-content/uploads/2026/01/Natverkstraffar-bild.jpg
ORGANIZER;CN="Estrad Alings%C3%A5s":MAILTO:info@estradalingsas.se
END:VEVENT
END:VCALENDAR