BEGIN:VCALENDAR
VERSION:2.0
PRODID:-//Estrad - ECPv6.15.18//NONSGML v1.0//EN
CALSCALE:GREGORIAN
METHOD:PUBLISH
X-ORIGINAL-URL:https://estradalingsas.se
X-WR-CALDESC:Händelser för Estrad
REFRESH-INTERVAL;VALUE=DURATION:PT1H
X-Robots-Tag:noindex
X-PUBLISHED-TTL:PT1H
BEGIN:VTIMEZONE
TZID:UTC
BEGIN:STANDARD
TZOFFSETFROM:+0000
TZOFFSETTO:+0000
TZNAME:UTC
DTSTART:20240101T000000
END:STANDARD
END:VTIMEZONE
BEGIN:VEVENT
DTSTART;TZID=UTC:20251212T180000
DTEND;TZID=UTC:20251212T230000
DTSTAMP:20260421T175744
CREATED:20251110T175711Z
LAST-MODIFIED:20251212T134125Z
UID:64041-1765562400-1765580400@estradalingsas.se
SUMMARY:The Music of ABBA – ARRIVAL from Sweden
DESCRIPTION:The Music of ABBA – Arrival from Sweden till Estrad i Alingsås! \nEn magisk helkväll med humor\, nostalgi och hits från 70–90-talet \n🎶 Världens största ABBA-show kommer till Alingsås! \nOriginalshowen The Music of ABBA med Arrival from Sweden har sålt ut arenor över hela världen och nu kommer de till Alingsås. Under två kvällar i Estrad den 12 och 13 december kommer Arrival from Sweden att bjuda på en färgsprakande show med låtar som Dancing Queen\, Mamma Mia och The Winner Takes It All. För musikälskare i Alingsås och övriga delar av regionen är detta ett unikt tillfälle att uppleva ABBA:s magi. Showen har hyllats över hela världen – så det gäller att vara ute i god tid för att kunna säkra sin plats. \n💥 Kvällen bjuder dessutom på: \nInnan kvällens stora ABBA-show drar igång bjuds publiken på en hejdundrande uppvärmning fylld av skratt och odödliga hits. \n🎭 Anders  Mårtensson – en av Sveriges främsta imitatörer. Skruva upp skrattnivån när Anders briljerar med sina träffsäkra imitationer av bland andra Tommy Körberg\, Lasse Berghagen\, Zlatan\, Edward Blom med flera\, ibland kusligt likt. \n🎸 PS Live – covers med schlagerkänsla Ett rutinerat coverband som levererar klassiska hits från 70-\, 80- och 90-talet. Perfekt för att hålla stämningen på topp hela vägen fram till The Music of ABBA. \n🕒 Program \n18:00: Dörrarna öppnar (bar och café öppet) \n19:00: Arenan öppnar \n19:30: Showstart med imitatör och coverband \nPaus: 30 minuter \n21.00: Kvällens huvudnummer: The Music of ABBA \n23:00: Showen slutar \nBoka företagspaket med restaurangmeny \nKontakta: info@massgruppenevent.se \nParkera \nFör besökare\, parkera smidigast i Estrads Parkeringshus. Enkelt att ta dig direkt till huvudentrén via trapporna. Hitta till oss >> \nHiss finns från parkering i markplan till våning \nParkeringshuset håller öppet fram till 00:30 denna tillställning. \n\n 
URL:https://estradalingsas.se/kalender/the-music-of-abba-arrival-from-sweden/
LOCATION:Estrad Alingsås\, Bryggaregatan 2\, Alingsås\, 441 30\, Sweden
CATEGORIES:Evenemang,Konsert
ATTACH;FMTTYPE=image/png:https://estradalingsas.se/wp-content/uploads/2025/11/Arrival-800x420-1.png
END:VEVENT
BEGIN:VEVENT
DTSTART;TZID=UTC:20251209T140000
DTEND;TZID=UTC:20251209T183000
DTSTAMP:20260421T175744
CREATED:20251117T122531Z
LAST-MODIFIED:20251120T145955Z
UID:64364-1765288800-1765305000@estradalingsas.se
SUMMARY:Dec UF Julmarknad
DESCRIPTION:UF-företagens julmarknad på Estrad 9/12 14.00-18.30\, marknaden där du möter framtidens företagare. \nVälkommen till årets julmarknad\, en del av “En sagolik jul i Alingsås”\, där 400 elever från Alströmergymnasiet\, Alingsås yrkesgymnasium\, Lerums gymnasium\, Sundlergymnasiet och Kunskapskällan visar upp och säljer sina produkter. \nI år är det 85 företag som ställer ut vilket gör marknaden till en av de största i västsverige. \nPå marknaden kommer du bjudas på underhållning från Estetelever på Alströmergymnasiet\, de mindre barnen kan julpyssla och tillverka julklappar med elever från Barn- & Fritidsprogrammet på Alströmergymnasiet och du kan avnjuta en fika bakad och serverad av elever från Restaurang- & Livsmedelsprogrammet på Alströmergymnasiet. \nVälkommen till framtidens julmarknad! \n\n 
URL:https://estradalingsas.se/kalender/dec-uf-julmarknad/
LOCATION:Estrad Alingsås – Arena\, Bryggaregatan 2\, Alingsås\, 441 30\, Sweden
CATEGORIES:+,Företagande,Mässor
ATTACH;FMTTYPE=image/png:https://estradalingsas.se/wp-content/uploads/2025/11/Hemsida-800x420-1-scaled-1.png
END:VEVENT
BEGIN:VEVENT
DTSTART;TZID=UTC:20251207T140000
DTEND;TZID=UTC:20251207T203000
DTSTAMP:20260421T175744
CREATED:20251117T122317Z
LAST-MODIFIED:20251205T073135Z
UID:64361-1765116000-1765139400@estradalingsas.se
SUMMARY:AHK-Dagen Dubbelarrangemang i Estrad
DESCRIPTION:Dubbelarrangemang i Estrad söndag 7 december. En dag för hela familjen med massor av roliga aktiviteter – gratis för alla under 18 år!\n\nVarmt välkomna till Estrad på söndag den 7 december! \nHär är programmet för AHK-dagen \n12.30: Dörrarna till Estrad slås upp\n12.30 – 14.00: Besök AHK-spelare i supportershopen och hitta fina julklappserbjudanden. Cornhole & prickskyttemål. Maskoten Tiger Teo från Nordic Wellness är på plats och anordnar aktiviteter och tävlingar under hela dagen. \n14.00: Avkast i matchen AHK–HF Karlskrona (dam)\nPaus: Tävling för barn med Tiger Teo.\nEfter matchen: AHK HFA ställer frågor till Maja Appelgren i damlaget \n15.30: Tomten från Sagolik Jul i Alingsås kommer på besök\n16.30: Avkast i matchen AHK–IFK Skövde (herr)\nPaus: Utmana Tiger Teo och Tomten i Cornhole\nEfter matchen: AHK HFA ställer frågor till Benjamin Helander i herrlaget \nBILJETTER FÖR VUXNA (Biljetten gäller för båda matcherna.  \nVill ni även ha gratis ungdomsbiljetter maila lena.lindqvist@ahk.nu: \n\n  \nInför evenemanget: \nParkera smidigast i Estrads Parkeringshus! Lämna jackan i bilen och ta trapporna för att komma direkt till huvudentrén. För dig i behov av hiss\, parkera på markplan/Plan 1. \nHär finner du vägbeskrivning till Estrad Parkeringshus. \n\n 
URL:https://estradalingsas.se/kalender/elitseriematch-alingsas-hk-ifk-skovde-hk/
LOCATION:Estrad Alingsås\, Bryggaregatan 2\, Alingsås\, 441 30\, Sweden
CATEGORIES:Sport
ATTACH;FMTTYPE=image/jpeg:https://estradalingsas.se/wp-content/uploads/2025/11/AHK-kalenderbild.jpg
END:VEVENT
BEGIN:VEVENT
DTSTART;TZID=UTC:20251206T180000
DTEND;TZID=UTC:20251207T010000
DTSTAMP:20260421T175744
CREATED:20251117T122202Z
LAST-MODIFIED:20251203T135942Z
UID:64357-1765044000-1765069200@estradalingsas.se
SUMMARY:Premiär för AfterSki på Estrad Arena! ❄️⛷️
DESCRIPTION:Skidor\, glitter och galen stämning – årets största vinterfest kommer till Alingsås! \nPacka pjäxorna\, dra på dig din bästa skidoutfit och gör dig redo för en kväll i äkta after ski-anda när Estrad Arena förvandlas till en pulserande fjällstuga fylld av musik\, dans och skratt! \nTillsammans med After Ski Team Sweden och Restaurang Skåål bjuder vi in till en maxad fest med: \n  \n Liveband som levererar de bästa klassiska after ski-hitsen och moderna popfavoriter du inte kan stå still till. \n Skåål serverar mat & dryck med inspiration från fjället – gulaschsoppa eller en mättande burgare. \n After Ski Team Sweden på plats med sin populära merch\, giveaways och full festenergi! \n Tid: Dörrarna öppnar kl. 18.00 – festen pågår till sent. \n Biljetter: Säkra din plats på Tickster – först till kvarn!  (18års gräns)  KÖP BILJETTER HÄR >> \n Plats: Estrad Arena\, Alingsås \n Dresscode: Din bästa skidoutfit! Pris till kvällens bäst klädda. \n  \n Det här är kvällen du inte vill missa. Samla vännerna\, dra på goggles\, fluffjacka och mössa – vi ses i backen (Estrad)! \n\n 
URL:https://estradalingsas.se/kalender/premiar-for-afterski-pa-estrad-arena/
LOCATION:Estrad Alingsås – Arena\, Bryggaregatan 2\, Alingsås\, 441 30\, Sweden
CATEGORIES:+,Evenemang
ATTACH;FMTTYPE=image/png:https://estradalingsas.se/wp-content/uploads/2025/11/Afterski-hemsidan-1920-x-1080-px.png
ORGANIZER;CN="Estrad Alings%C3%A5s":MAILTO:info@estradalingsas.se
END:VEVENT
BEGIN:VEVENT
DTSTART;VALUE=DATE:20251205
DTEND;VALUE=DATE:20251206
DTSTAMP:20260421T175744
CREATED:20251117T121828Z
LAST-MODIFIED:20251120T150251Z
UID:64354-1764892800-1764979199@estradalingsas.se
SUMMARY:Abonnerat 5 december
DESCRIPTION:Estrads lokaler är redo för din nästa händelse – en branschmässa\, det publika evenemanget\, ditt företagsevent\, en fest\, utbildningsdagar och mer därtill! Vi ligger mitt i centrum\, och vår kunniga personal kan tillsammans med våra nära samarbetspartners tillhandahålla skräddarsydda lösningar för just dina behov. \nKontakta oss för en pratstund\, så hjälper vi dig med nästa oförglömliga händelse- välkommen till Estrad du med! \n\n 
URL:https://estradalingsas.se/kalender/abonnerat-5-december/
ATTACH;FMTTYPE=image/png:https://estradalingsas.se/wp-content/uploads/2025/11/Abonnerat-banner-hemsida.png
END:VEVENT
BEGIN:VEVENT
DTSTART;TZID=UTC:20251201T190000
DTEND;TZID=UTC:20251201T203000
DTSTAMP:20260421T175744
CREATED:20251117T121547Z
LAST-MODIFIED:20251120T150332Z
UID:64351-1764615600-1764621000@estradalingsas.se
SUMMARY:Elitseriematch Alingsås HK – Eskilstuna Guif
DESCRIPTION:Inför evenemanget: \nParkera smidigast i Estrads Parkeringshus! Lämna jackan i bilen och ta trapporna för att komma direkt till huvudentrén. För dig i behov av hiss\, parkera på markplan/Plan 1. \nHär finner du vägbeskrivning till Estrad Parkeringshus. \n\n 
URL:https://estradalingsas.se/kalender/elitseriematch-alingsas-hk-eskilstuna-guif/
LOCATION:Estrad Alingsås\, Bryggaregatan 2\, Alingsås\, 441 30\, Sweden
CATEGORIES:Sport
ATTACH;FMTTYPE=image/jpeg:https://estradalingsas.se/wp-content/uploads/2025/11/AHK-kalenderbild.jpg
END:VEVENT
BEGIN:VEVENT
DTSTART;TZID=UTC:20251121T190000
DTEND;TZID=UTC:20251121T203000
DTSTAMP:20260421T175744
CREATED:20251110T000046Z
LAST-MODIFIED:20251120T150936Z
UID:63983-1763751600-1763757000@estradalingsas.se
SUMMARY:Elitseriematch Alingsås HK – IK Sävehof
DESCRIPTION:Inför evenemanget: \nParkera smidigast i Estrads Parkeringshus! Lämna jackan i bilen och ta trapporna för att komma direkt till huvudentrén. För dig i behov av hiss\, parkera på markplan/Plan 1. \nHär finner du vägbeskrivning till Estrad Parkeringshus. \n\n 
URL:https://estradalingsas.se/kalender/elitseriematch-alingsas-hk-ik-savehof/
LOCATION:Estrad Alingsås\, Bryggaregatan 2\, Alingsås\, 441 30\, Sweden
CATEGORIES:Sport
ATTACH;FMTTYPE=image/jpeg:https://estradalingsas.se/wp-content/uploads/2025/11/AHK-kalenderbild.jpg
END:VEVENT
BEGIN:VEVENT
DTSTART;TZID=UTC:20251119T150000
DTEND;TZID=UTC:20251119T164500
DTSTAMP:20260421T175744
CREATED:20251018T200518Z
LAST-MODIFIED:20251120T151132Z
UID:62592-1763564400-1763570700@estradalingsas.se
SUMMARY:Estrad Styrelsenätverk
DESCRIPTION:Tema: Ägarkunskap. Ägarnas dilemma – har vi alla ägarkompetens? \n  \nAtt vara själv ägare har sina utmaningar. Är man fler\, kan det vara en möjlighet och utmaning. \nVälkommen till en genomgång kring ägarkompetens tillsammans med Mats Axell\, bl.a. författare till boken – Ägarresan : vägen till ett professionellt och harmoniskt ägarskap. \nMats är även entreprenör som varit med och startat bolag som han med övriga grundare sålt vidare. Idag är han VD och medgrundare till Censor M&A. \nEstradbolagen\, Företagarna Alingsås och Styrelseakademien Västsverige bjuder in ägare och styrelseaktiva till en berättelse kring en utvecklad ägarkompetens.Ägarnas dilemma – har vi alla ägarkompetens? \nMats kommer även berätta om vår kommande utbildning i Ägarkompetens. \n  \nEn utvecklad ägarkompetens \nÄgarledda bolag med fler ägare tjänar på att ägarna har pratat ihop sig. En gemensam bild kring ägarnas vilja i ett ägardirektiv\, aktieägaravtal\, arbetsordning\, anställningsavtal\, kompanjonförsäkring och VD instruktion som är i harmoni. \nTydlighet mellan ägare ger stabilare förutsättning för alla.  Uttrycket ”från ägarlett till ägarstyrt”\, att skapa ett mer personoberoende företag\, skapar värde på bolaget och möjliggör att grundare / entreprenör kan vara ledig några veckor. \n  \nInför evenemanget: \nParkera smidigast i Estrads Parkeringshus! Lämna jackan i bilen och ta trapporna för att komma direkt till huvudentrén. För dig i behov av hiss\, parkera på markplan/Plan 1. \n  \nHär finner du vägbeskrivning till Estrad Parkeringshus. \n\n 
URL:https://estradalingsas.se/kalender/estrad-styrelsenatverk/
LOCATION:Estrad Alingsås – Estrad Foajé\, Bryggaregatan 2\, Alingsås\, 441 30\, Sweden
CATEGORIES:Företagande
ATTACH;FMTTYPE=image/jpeg:https://estradalingsas.se/wp-content/uploads/2025/10/2e06613b-aefe-4390-9be5-8dcdb43e99b2-scaled-1.jpg
END:VEVENT
BEGIN:VEVENT
DTSTART;VALUE=DATE:20251101
DTEND;VALUE=DATE:20251103
DTSTAMP:20260421T175744
CREATED:20251017T115646Z
LAST-MODIFIED:20251120T151320Z
UID:62497-1761955200-1762127999@estradalingsas.se
SUMMARY:Kycklingcupen 2025
DESCRIPTION:P14\, pojkar födda 2011 och senare – gruppspel och slutspel\, minst 3 matcher/lag – 1/11 gruppspel Estrad Alingsås\, 2/11 finalspel Estrad Alingsås \nF14\, flickor födda 2011 och senare – gruppspel och slutspel\, minst 3 matcher/lag – 1/11 gruppspel Estrad Alingsås\, 2/11 finalspel Estrad Alingsås \nP16\, pojkar födda 2009 och senare – gruppspel och slutspel\, minst 3 matcher/lag – 1/11 gruppspel Nolhagahallen\, 2/11 finalspel Estrad Alingsås \nF16\, flickor födda 2009 och senare – gruppspel och slutspel\, minst 3 matcher/lag – 1/11 gruppspel Nolhagahallen\, 2/11 finalspel Estrad Alingsås \nP19\, pojkar födda 2006 och senare – gruppspel och slutspel\, minst 3 matcher/lag – 2/11 gruppspel Nolhagahallen\, 2/11 finalspel Estrad Alingsås \n  \nInför evenemanget: \nParkera smidigast i Estrads Parkeringshus! Lämna jackan i bilen och ta trapporna för att komma direkt till huvudentrén. För dig i behov av hiss\, parkera på markplan/Plan 1.
URL:https://estradalingsas.se/kalender/kycklingcupen-2025/
LOCATION:Estrad Alingsås\, Bryggaregatan 2\, Alingsås\, 441 30\, Sweden
CATEGORIES:Sport
ATTACH;FMTTYPE=image/png:https://estradalingsas.se/wp-content/uploads/2025/10/Evenemangsbilder-hemsida-2.png
END:VEVENT
BEGIN:VEVENT
DTSTART;TZID=UTC:20251022T190000
DTEND;TZID=UTC:20251022T203000
DTSTAMP:20260421T175744
CREATED:20251017T100912Z
LAST-MODIFIED:20251120T151419Z
UID:62466-1761159600-1761165000@estradalingsas.se
SUMMARY:Elitseriematch Alingsås HK – Västeråsirsta HF
DESCRIPTION:
URL:https://estradalingsas.se/kalender/elitseriematch-alingsas-hk-vasterasirsta-hf/
LOCATION:Estrad Alingsås\, Bryggaregatan 2\, Alingsås\, 441 30\, Sweden
CATEGORIES:Sport
ATTACH;FMTTYPE=image/jpeg:https://estradalingsas.se/wp-content/uploads/2025/11/AHK-kalenderbild.jpg
END:VEVENT
BEGIN:VEVENT
DTSTART;TZID=UTC:20251021T080000
DTEND;TZID=UTC:20251021T170000
DTSTAMP:20260421T175744
CREATED:20251017T131344Z
LAST-MODIFIED:20251120T151503Z
UID:62523-1761033600-1761066000@estradalingsas.se
SUMMARY:Affärsmingel för företagsamma kvinnor
DESCRIPTION:  \nFunderar du på hur du kan ta ditt företag till nästa nivå? Vill du växa\, men vet inte hur du ska få in rätt kapital – eller var du ens ska börja? Då är detta träffen för dig! \nDen 21 oktober samlar Almi Väst och Estrad Alingsås företagsamma kvinnor för en energifylld kväll där du får konkreta insikter\, ny inspiration och värdefulla kontakter. \nVi har bjudit in spännande talare som kommer att dela med sig av sina erfarenheter kring kapitalanskaffning\, investeringar och företagstillväxt – namn och program släpps inom kort\, men vi vågar lova att du inte vill missa det här! \nDatum: Tisdag 21 oktober\nTid: 17.00–19.00\nPlats: Estrad Alingsås\, Bryggaregatan 2\nVi bjuder på alkoholfritt bubbel & snittar\nTalare inom temat ”Att hitta kapital” – offentliggörs snart! \nPlatserna brukar gå åt snabbt – så missa inte chansen att få en rejäl dos inspiration\, nätverkande och konkret kunskap om hur du tar nästa steg i ditt företagande. \nSista anmälan: 11 oktober (pga matbeställning och specialkost)\nVid anmälan och deltagande delas dina uppgifter mellan arrangörerna för att skapa bästa möjliga upplevelse och uppföljning. \nVarmt välkommen önskar Almi Väst och Estrad! \nNågra frågor?\nHanna Khazrai\, Estrad Alingsås – 0738-675165 | hanna.khazrai@estradalingsas.se\nJaspreet Gill\, Almi Väst – 0722-020413 | jaspreet.gill@almi.se \n\n 
URL:https://estradalingsas.se/kalender/affarsmingel-for-foretagsamma-kvinnor/
LOCATION:Estrad Alingsås – Afzelius Foajé\, Bryggaregatan 2\, Alingsås\, 441 30\, Sweden
CATEGORIES:Företagande
ATTACH;FMTTYPE=image/png:https://estradalingsas.se/wp-content/uploads/2025/10/Namnlos-design-35.png
END:VEVENT
BEGIN:VEVENT
DTSTART;TZID=UTC:20250914T110000
DTEND;TZID=UTC:20250914T150000
DTSTAMP:20260421T175744
CREATED:20251222T114226Z
LAST-MODIFIED:20251222T114234Z
UID:65103-1757847600-1757862000@estradalingsas.se
SUMMARY:Bröllopsmässan 2026
DESCRIPTION:Drömmer du om ett sagobröllop? Eller kanske ett boho-bröllop på stranden\, ett elegant citybröllop eller ett traditionsrikt firande med kulturella inslag? \nPå Alingsås Bröllopsmässa möts inspiration från hela världen – och du hittar allt du behöver för att skapa just ert drömbröllop! \n– Brudklänningar\, kostymer & smycken\n– Blommor\, dekorationer & styling\n– Fotografer\, catering & musik\n– Inspirerande scenprogram med experter\, modevisningar och tips från proffsen \nOch – för den som inte vill vänta – Förnya dina löften eller passa på med en Pop Up-vigsel direkt på plats! \n  \n\n\n\n\nTa med din partner\, tärnor\, familj eller vänner och upplev en helg fylld av kärlek\, trender och magi. \nLåt oss tillsammans fira kärleken – oavsett språk\, kultur eller tradition! \nVälkommen till Hela världens bröllop – i hjärtat av Alingsås!
URL:https://estradalingsas.se/kalender/brollopsmassan-2026-2/
LOCATION:Estrad Alingsås – Arena\, Bryggaregatan 2\, Alingsås\, 441 30\, Sweden
CATEGORIES:+,Mässor
ATTACH;FMTTYPE=image/png:https://estradalingsas.se/wp-content/uploads/2025/12/Brollopsmassan.png
ORGANIZER;CN="Estrad Alings%C3%A5s":MAILTO:info@estradalingsas.se
END:VEVENT
BEGIN:VEVENT
DTSTART;TZID=UTC:20250213T190000
DTEND;TZID=UTC:20250213T203000
DTSTAMP:20260421T175744
CREATED:20251216T104431Z
LAST-MODIFIED:20260309T132858Z
UID:65045-1739473200-1739478600@estradalingsas.se
SUMMARY:Elitseriematch Alingsås HK – Hammarby IF HF
DESCRIPTION:Inför evenemanget: \nParkera smidigast i Estrads Parkeringshus! Lämna jackan i bilen och ta trapporna för att komma direkt till huvudentrén. För dig i behov av hiss\, parkera på markplan/Plan 1. \nHär finner du vägbeskrivning till Estrad Parkeringshus. \nKöp biljett \n 
URL:https://estradalingsas.se/kalender/elitseriematch-alingsas-hk-hammarby-if-hf/
LOCATION:Estrad Alingsås – Arena\, Bryggaregatan 2\, Alingsås\, 441 30\, Sweden
CATEGORIES:Sport
ATTACH;FMTTYPE=image/jpeg:https://estradalingsas.se/wp-content/uploads/2025/11/AHK-kalenderbild.jpg
END:VEVENT
END:VCALENDAR